BEGIN:VCALENDAR
VERSION:2.0
PRODID:-//NL Insider - ECPv6.15.17.1//NONSGML v1.0//EN
CALSCALE:GREGORIAN
METHOD:PUBLISH
X-WR-CALNAME:NL Insider
X-ORIGINAL-URL:https://insider.nationallife.com
X-WR-CALDESC:Events for NL Insider
REFRESH-INTERVAL;VALUE=DURATION:PT1H
X-Robots-Tag:noindex
X-PUBLISHED-TTL:PT1H
BEGIN:VTIMEZONE
TZID:America/New_York
BEGIN:DAYLIGHT
TZOFFSETFROM:-0500
TZOFFSETTO:-0400
TZNAME:EDT
DTSTART:20190310T070000
END:DAYLIGHT
BEGIN:STANDARD
TZOFFSETFROM:-0400
TZOFFSETTO:-0500
TZNAME:EST
DTSTART:20191103T060000
END:STANDARD
BEGIN:DAYLIGHT
TZOFFSETFROM:-0500
TZOFFSETTO:-0400
TZNAME:EDT
DTSTART:20200308T070000
END:DAYLIGHT
BEGIN:STANDARD
TZOFFSETFROM:-0400
TZOFFSETTO:-0500
TZNAME:EST
DTSTART:20201101T060000
END:STANDARD
BEGIN:DAYLIGHT
TZOFFSETFROM:-0500
TZOFFSETTO:-0400
TZNAME:EDT
DTSTART:20210314T070000
END:DAYLIGHT
BEGIN:STANDARD
TZOFFSETFROM:-0400
TZOFFSETTO:-0500
TZNAME:EST
DTSTART:20211107T060000
END:STANDARD
END:VTIMEZONE
BEGIN:VEVENT
DTSTART;TZID=America/New_York:20200324T140000
DTEND;TZID=America/New_York:20200324T150000
DTSTAMP:20260423T034643
CREATED:20200323T180310Z
LAST-MODIFIED:20200323T180310Z
UID:10000835-1585058400-1585062000@insider.nationallife.com
SUMMARY:Business Survival Tips in the Age of Social Distancing
DESCRIPTION:Register in advance for this webinar:
URL:https://insider.nationallife.com/event/business-survival-tips-in-the-age-of-social-distancing-2/
END:VEVENT
BEGIN:VEVENT
DTSTART;TZID=America/New_York:20200324T110000
DTEND;TZID=America/New_York:20200324T120000
DTSTAMP:20260423T034643
CREATED:20200227T150532Z
LAST-MODIFIED:20200227T150532Z
UID:10000769-1585047600-1585051200@insider.nationallife.com
SUMMARY:403(b) Playbook Webinar
DESCRIPTION:Register in advance for this webinar:
URL:https://insider.nationallife.com/event/403b-playbook-webinar-4/
END:VEVENT
BEGIN:VEVENT
DTSTART;TZID=America/New_York:20200324T100000
DTEND;TZID=America/New_York:20200324T110000
DTSTAMP:20260423T034643
CREATED:20200323T180107Z
LAST-MODIFIED:20200323T180107Z
UID:10000834-1585044000-1585047600@insider.nationallife.com
SUMMARY:Business Survival Tips in the Age of Social Distancing
DESCRIPTION:Register in advance for this webinar:
URL:https://insider.nationallife.com/event/business-survival-tips-in-the-age-of-social-distancing/
END:VEVENT
BEGIN:VEVENT
DTSTART;TZID=America/New_York:20200323T103000
DTEND;TZID=America/New_York:20200323T113000
DTSTAMP:20260423T034643
CREATED:20200227T154238Z
LAST-MODIFIED:20200227T154238Z
UID:10000777-1584959400-1584963000@insider.nationallife.com
SUMMARY:Introducing NLG's Redesigned FlexLife IUL
DESCRIPTION:The FlexLife has features that will make it an industry-leading IUL product. Learn how the FlexLife helps to solve for the client who wants a flexible policy with options for high cash value performance. With greater growth potential\, plus continued guarantees of downside protection\, living benefits and death benefit security\, this webinar will give you the tools you need to help your clients find peace of mind. This webinar is for all agents.
URL:https://insider.nationallife.com/event/introducing-nlgs-redesigned-flexlife-iul-7/
END:VEVENT
BEGIN:VEVENT
DTSTART;TZID=America/New_York:20200320T103000
DTEND;TZID=America/New_York:20200320T113000
DTSTAMP:20260423T034643
CREATED:20200227T153631Z
LAST-MODIFIED:20200227T153631Z
UID:10000776-1584700200-1584703800@insider.nationallife.com
SUMMARY:EZ Underwriting Enhancements
DESCRIPTION:Register in advance for this webinar:
URL:https://insider.nationallife.com/event/ez-underwriting-enhancements-22/
END:VEVENT
BEGIN:VEVENT
DTSTART;TZID=America/New_York:20200319T163000
DTEND;TZID=America/New_York:20200319T173000
DTSTAMP:20260423T034643
CREATED:20200227T152930Z
LAST-MODIFIED:20200227T152930Z
UID:10000775-1584635400-1584639000@insider.nationallife.com
SUMMARY:EZ Underwriting (Mandarin)
DESCRIPTION:Register in advance for this webinar:
URL:https://insider.nationallife.com/event/ez-underwriting-mandarin/
END:VEVENT
BEGIN:VEVENT
DTSTART;TZID=America/New_York:20200319T150000
DTEND;TZID=America/New_York:20200319T160000
DTSTAMP:20260423T034643
CREATED:20200227T152440Z
LAST-MODIFIED:20200227T152440Z
UID:10000774-1584630000-1584633600@insider.nationallife.com
SUMMARY:FIT Retirement Series
DESCRIPTION:Register in advance for this webinar: \nThe next generation of retirement solutions…the consumer focused FIT Retirement Series of flexible premium annuities. Learn more about how these new retirement solutions are tailored to meet client’s needs for both short and long-term accumulation and distribution time frames. This webinar is suitable for any agent who wants to grow their business in the annuity market.  ***Don’t forget to complete your state’s specific annuity training***
URL:https://insider.nationallife.com/event/fit-retirement-series-42/
END:VEVENT
BEGIN:VEVENT
DTSTART;TZID=America/New_York:20200318T150000
DTEND;TZID=America/New_York:20200318T160000
DTSTAMP:20260423T034643
CREATED:20200227T152043Z
LAST-MODIFIED:20200227T152043Z
UID:10000773-1584543600-1584547200@insider.nationallife.com
SUMMARY:Whole Life Illustration Training
DESCRIPTION:Register in advance for this webinar: \n 
URL:https://insider.nationallife.com/event/whole-life-illustration-training-5/
END:VEVENT
BEGIN:VEVENT
DTSTART;TZID=America/New_York:20200318T143000
DTEND;TZID=America/New_York:20200318T153000
DTSTAMP:20260423T034643
CREATED:20200227T150432Z
LAST-MODIFIED:20200227T150432Z
UID:10000768-1584541800-1584545400@insider.nationallife.com
SUMMARY:Developing Plan Sponsor Relationships
DESCRIPTION:Register in advance for this webinar:
URL:https://insider.nationallife.com/event/developing-plan-sponsor-relationships/
END:VEVENT
BEGIN:VEVENT
DTSTART;TZID=America/New_York:20200317T163000
DTEND;TZID=America/New_York:20200317T173000
DTSTAMP:20260423T034643
CREATED:20200226T225708Z
LAST-MODIFIED:20200226T225708Z
UID:10000763-1584462600-1584466200@insider.nationallife.com
SUMMARY:Introducing NLG's Redesigned FlexLife IUL (Mandarin)
DESCRIPTION:Register in advance for this webinar: \nThe FlexLife new features will make it an industry-leading IUL product. Learn how the FlexLife helps to solve for the client who wants a flexible policy with options for high cash value performance. With greater growth potential\, plus continued guarantees of downside protection\, living benefits and death benefit security\, this webinar will give you the tools you need to help your clients find peace of mind. This webinar is for all agents.
URL:https://insider.nationallife.com/event/introducing-nlgs-redesigned-flexlife-iul-mandarin/
END:VEVENT
BEGIN:VEVENT
DTSTART;TZID=America/New_York:20200317T150000
DTEND;TZID=America/New_York:20200317T160000
DTSTAMP:20260423T034643
CREATED:20200226T225351Z
LAST-MODIFIED:20200226T225351Z
UID:10000762-1584457200-1584460800@insider.nationallife.com
SUMMARY:TotalSecure Whole Life
DESCRIPTION:Register in advance for this webinar: \nLooking for new ways to use time-tested products?  Learn about our whole life product\, TotalSecure: the most flexible whole life product on the market.
URL:https://insider.nationallife.com/event/totalsecure-whole-life-40/
END:VEVENT
BEGIN:VEVENT
DTSTART;TZID=America/New_York:20200316T130000
DTEND;TZID=America/New_York:20200316T140000
DTSTAMP:20260423T034643
CREATED:20200227T150343Z
LAST-MODIFIED:20200227T150343Z
UID:10000767-1584363600-1584367200@insider.nationallife.com
SUMMARY:Introduction to TRAK – National Life Group
DESCRIPTION:Register in advance for this webinar: \n 
URL:https://insider.nationallife.com/event/introduction-to-trak-national-life-group/
END:VEVENT
BEGIN:VEVENT
DTSTART;TZID=America/New_York:20200316T103000
DTEND;TZID=America/New_York:20200316T113000
DTSTAMP:20260423T034643
CREATED:20200226T225124Z
LAST-MODIFIED:20200226T225124Z
UID:10000761-1584354600-1584358200@insider.nationallife.com
SUMMARY:Introducing NLG's Redesigned FlexLife IUL
DESCRIPTION:Register in advance for this webinar: \nThe FlexLife new features will make it an industry-leading IUL product. Learn how the FlexLife helps to solve for the client who wants a flexible policy with options for high cash value performance. With greater growth potential\, plus continued guarantees of downside protection\, living benefits and death benefit security\, this webinar will give you the tools you need to help your clients find peace of mind. This webinar is for all agents.
URL:https://insider.nationallife.com/event/introducing-nlgs-redesigned-flexlife-iul-6/
END:VEVENT
BEGIN:VEVENT
DTSTART;TZID=America/New_York:20200313T103000
DTEND;TZID=America/New_York:20200313T113000
DTSTAMP:20260423T034643
CREATED:20200226T224700Z
LAST-MODIFIED:20200226T224700Z
UID:10000760-1584095400-1584099000@insider.nationallife.com
SUMMARY:E-App for Annuities
DESCRIPTION:Register in advance for this webinar: \nDo you want to speed up the application process and get paid faster?  Do you want to cut down on NIGO (Not In Good Order) business?  This WebEx will show you how to utilize our E-App system to submit your business electronically.  This session is for any Agent who wants to learn how to submit their business electronically.
URL:https://insider.nationallife.com/event/e-app-for-annuities-3/
END:VEVENT
BEGIN:VEVENT
DTSTART;TZID=America/New_York:20200312T163000
DTEND;TZID=America/New_York:20200312T173000
DTSTAMP:20260423T034643
CREATED:20200226T205053Z
LAST-MODIFIED:20200226T205053Z
UID:10000759-1584030600-1584034200@insider.nationallife.com
SUMMARY:Introducing NLG's Redesigned FlexLife IUL (Spanish)
DESCRIPTION:Register in advance for this webinar: \nThe FlexLife new features will make it an industry-leading IUL product. Learn how the FlexLife helps to solve for the client who wants a flexible policy with options for high cash value performance. With greater growth potential\, plus continued guarantees of downside protection\, living benefits and death benefit security\, this webinar will give you the tools you need to help your clients find peace of mind. This webinar is for all agents.
URL:https://insider.nationallife.com/event/introducing-nlgs-redesigned-flexlife-iul-spanish/
END:VEVENT
BEGIN:VEVENT
DTSTART;TZID=America/New_York:20200312T150000
DTEND;TZID=America/New_York:20200312T160000
DTSTAMP:20260423T034643
CREATED:20200226T204636Z
LAST-MODIFIED:20200226T204636Z
UID:10000758-1584025200-1584028800@insider.nationallife.com
SUMMARY:Indexed Crediting Strategies
DESCRIPTION:Register in advance for this webinar:
URL:https://insider.nationallife.com/event/indexed-crediting-strategies/
END:VEVENT
BEGIN:VEVENT
DTSTART;TZID=America/New_York:20200312T123000
DTEND;TZID=America/New_York:20200312T133000
DTSTAMP:20260423T034643
CREATED:20200227T150209Z
LAST-MODIFIED:20200227T150209Z
UID:10000766-1584016200-1584019800@insider.nationallife.com
SUMMARY:Intro to Balanced Opportunities
DESCRIPTION:Register in advance for this webinar:
URL:https://insider.nationallife.com/event/intro-to-balanced-opportunities/
END:VEVENT
BEGIN:VEVENT
DTSTART;TZID=America/New_York:20200311T150000
DTEND;TZID=America/New_York:20200311T160000
DTSTAMP:20260423T034643
CREATED:20200226T204429Z
LAST-MODIFIED:20200226T204429Z
UID:10000757-1583938800-1583942400@insider.nationallife.com
SUMMARY:Life Insurance with Living Benefits & Lifetime Income Benefit Rider
DESCRIPTION:Register in advance for this webinar:
URL:https://insider.nationallife.com/event/life-insurance-with-living-benefits-lifetime-income-benefit-rider/
END:VEVENT
BEGIN:VEVENT
DTSTART;TZID=America/New_York:20200310T163000
DTEND;TZID=America/New_York:20200310T173000
DTSTAMP:20260423T034643
CREATED:20200226T204212Z
LAST-MODIFIED:20200226T204212Z
UID:10000756-1583857800-1583861400@insider.nationallife.com
SUMMARY:Illustration Designs using IULs (Korean)
DESCRIPTION:Register in advance for this webinar: \n 
URL:https://insider.nationallife.com/event/illustration-designs-using-iuls-korean-5/
END:VEVENT
BEGIN:VEVENT
DTSTART;TZID=America/New_York:20200310T150000
DTEND;TZID=America/New_York:20200310T160000
DTSTAMP:20260423T034643
CREATED:20200226T194437Z
LAST-MODIFIED:20200226T194437Z
UID:10000755-1583852400-1583856000@insider.nationallife.com
SUMMARY:Introducing NLG's Redesigned FlexLife IUL
DESCRIPTION:Register in advance for this webinar: \nThe FlexLife new features will make it an industry-leading IUL product. Learn how the FlexLife helps to solve for the client who wants a flexible policy with options for high cash value performance. With greater growth potential\, plus continued guarantees of downside protection\, living benefits and death benefit security\, this webinar will give you the tools you need to help your clients find peace of mind. This webinar is for all agents.
URL:https://insider.nationallife.com/event/introducing-nlgs-redesigned-flexlife-iul-5/
END:VEVENT
BEGIN:VEVENT
DTSTART;TZID=America/New_York:20200310T120000
DTEND;TZID=America/New_York:20200310T130000
DTSTAMP:20260423T034643
CREATED:20200227T150124Z
LAST-MODIFIED:20200227T150124Z
UID:10000765-1583841600-1583845200@insider.nationallife.com
SUMMARY:403(b) Playbook Webinar
DESCRIPTION:Register in advance for this webinar:
URL:https://insider.nationallife.com/event/403b-playbook-webinar-3/
END:VEVENT
BEGIN:VEVENT
DTSTART;TZID=America/New_York:20200309T103000
DTEND;TZID=America/New_York:20200309T113000
DTSTAMP:20260423T034643
CREATED:20200226T192528Z
LAST-MODIFIED:20200226T192528Z
UID:10000754-1583749800-1583753400@insider.nationallife.com
SUMMARY:Advanced Life Illustration Training
DESCRIPTION:Register in advance for this webinar: \nDo you want to learn more about how to illustrate advanced client cases?  This WebEx presentation will teach you how to run more complex illustrations along with helping you to better understand some of the nuances with our illustration software.  This session is ideal for Agents who are already very familiar with our illustration system.
URL:https://insider.nationallife.com/event/12769/
END:VEVENT
BEGIN:VEVENT
DTSTART;TZID=America/New_York:20200306T103000
DTEND;TZID=America/New_York:20200306T113000
DTSTAMP:20260423T034643
CREATED:20200226T165731Z
LAST-MODIFIED:20200226T165731Z
UID:10000753-1583490600-1583494200@insider.nationallife.com
SUMMARY:Basic Life Illustration Training
DESCRIPTION:Register in advance for this webinar: \nAre you new to National Life Group?  Are you looking to start using our illustration software to run illustrations for your prospective clients?  This WebEx will help you understand our software platforms\, how to navigate each one\, and how to run each life product illustration.  This session is ideal for Agents who are looking to learn how to use National Life’s illustration software.
URL:https://insider.nationallife.com/event/basic-life-illustration-training-8/
END:VEVENT
BEGIN:VEVENT
DTSTART;TZID=America/New_York:20200305T163000
DTEND;TZID=America/New_York:20200305T173000
DTSTAMP:20260423T034643
CREATED:20200226T164533Z
LAST-MODIFIED:20200226T164533Z
UID:10000752-1583425800-1583429400@insider.nationallife.com
SUMMARY:Illustration Designs using IULs (Mandarin)
DESCRIPTION:Register in advance for this webinar:
URL:https://insider.nationallife.com/event/illustration-designs-using-iuls-mandarin-6/
END:VEVENT
BEGIN:VEVENT
DTSTART;TZID=America/New_York:20200305T150000
DTEND;TZID=America/New_York:20200305T160000
DTSTAMP:20260423T034643
CREATED:20200226T164307Z
LAST-MODIFIED:20200226T164307Z
UID:10000751-1583420400-1583424000@insider.nationallife.com
SUMMARY:Inforce Illustration Training
DESCRIPTION:Register in advance for this webinar: \nHave you ever found yourself in this situation?  You are meeting with your client for a check-up and wish you had an in-force illustration showing them how their current policy is performing?  This webinar will show you how to run an in-force illustration\, so you can be prepared when meeting with your clients.  This webinar is suitable for any agent with in-force business.
URL:https://insider.nationallife.com/event/inforce-illustration-training-16/
END:VEVENT
BEGIN:VEVENT
DTSTART;TZID=America/New_York:20200304T150000
DTEND;TZID=America/New_York:20200304T160000
DTSTAMP:20260423T034643
CREATED:20200226T163924Z
LAST-MODIFIED:20200226T163924Z
UID:10000750-1583334000-1583337600@insider.nationallife.com
SUMMARY:Introducing NLG's Redesigned PeakLife IUL
DESCRIPTION:Register in advance for this webinar: \nLooking for an IUL product that offers a strong competitive edge to your high-net worth clients? The PeakLife with new enhancer bonuses that can help to maximize the client’s growth potential. With two added options for enhanced cash value performance\, plus continued advanced market solutions that focus on your client’s unique needs\, this webinar provides training on how PeakLife can deliver more value to your clients. This webinar is for all agents
URL:https://insider.nationallife.com/event/introducing-nlgs-redesigned-peaklife-iul/
END:VEVENT
BEGIN:VEVENT
DTSTART;TZID=America/New_York:20200303T163000
DTEND;TZID=America/New_York:20200303T173000
DTSTAMP:20260423T034643
CREATED:20200226T162719Z
LAST-MODIFIED:20200226T162719Z
UID:10000749-1583253000-1583256600@insider.nationallife.com
SUMMARY:Illustration Designs using IULs (Spanish)
DESCRIPTION:Register in advance for this webinar:
URL:https://insider.nationallife.com/event/illustration-designs-using-iuls-spanish-5/
END:VEVENT
BEGIN:VEVENT
DTSTART;TZID=America/New_York:20200303T150000
DTEND;TZID=America/New_York:20200303T160000
DTSTAMP:20260423T034643
CREATED:20200226T162418Z
LAST-MODIFIED:20200226T162418Z
UID:10000748-1583247600-1583251200@insider.nationallife.com
SUMMARY:FIT Retirement Series
DESCRIPTION:Register in advance for this webinar: \nThe next generation of retirement solutions…the new consumer focused FIT Retirement Series of flexible premium annuities. Learn more about how these new retirement solutions are tailored to meet client’s needs for both short and long-term accumulation and distribution time frames. This webinar is suitable for any agent who wants to grow their business in the annuity market.  ***Don’t forget to complete your state’s specific annuity training***
URL:https://insider.nationallife.com/event/fit-retirement-series-41/
END:VEVENT
BEGIN:VEVENT
DTSTART;TZID=America/New_York:20200303T143000
DTEND;TZID=America/New_York:20200303T153000
DTSTAMP:20260423T034643
CREATED:20200227T150036Z
LAST-MODIFIED:20200227T150036Z
UID:10000764-1583245800-1583249400@insider.nationallife.com
SUMMARY:K-12 Meeting Toolkit Training
DESCRIPTION:Register in advance for this webinar
URL:https://insider.nationallife.com/event/k-12-meeting-toolkit-training-4/
END:VEVENT
BEGIN:VEVENT
DTSTART;TZID=America/New_York:20200302T140000
DTEND;TZID=America/New_York:20200302T150000
DTSTAMP:20260423T034643
CREATED:20200203T145837Z
LAST-MODIFIED:20200203T145837Z
UID:10000746-1583157600-1583161200@insider.nationallife.com
SUMMARY:Strategic Social Security
DESCRIPTION:Register in advance for this webinar:
URL:https://insider.nationallife.com/event/strategic-social-security/
END:VEVENT
END:VCALENDAR