BEGIN:VCALENDAR
VERSION:2.0
PRODID:-//NL Insider - ECPv6.15.17.1//NONSGML v1.0//EN
CALSCALE:GREGORIAN
METHOD:PUBLISH
X-WR-CALNAME:NL Insider
X-ORIGINAL-URL:https://insider.nationallife.com
X-WR-CALDESC:Events for NL Insider
REFRESH-INTERVAL;VALUE=DURATION:PT1H
X-Robots-Tag:noindex
X-PUBLISHED-TTL:PT1H
BEGIN:VTIMEZONE
TZID:America/New_York
BEGIN:DAYLIGHT
TZOFFSETFROM:-0500
TZOFFSETTO:-0400
TZNAME:EDT
DTSTART:20190310T070000
END:DAYLIGHT
BEGIN:STANDARD
TZOFFSETFROM:-0400
TZOFFSETTO:-0500
TZNAME:EST
DTSTART:20191103T060000
END:STANDARD
BEGIN:DAYLIGHT
TZOFFSETFROM:-0500
TZOFFSETTO:-0400
TZNAME:EDT
DTSTART:20200308T070000
END:DAYLIGHT
BEGIN:STANDARD
TZOFFSETFROM:-0400
TZOFFSETTO:-0500
TZNAME:EST
DTSTART:20201101T060000
END:STANDARD
BEGIN:DAYLIGHT
TZOFFSETFROM:-0500
TZOFFSETTO:-0400
TZNAME:EDT
DTSTART:20210314T070000
END:DAYLIGHT
BEGIN:STANDARD
TZOFFSETFROM:-0400
TZOFFSETTO:-0500
TZNAME:EST
DTSTART:20211107T060000
END:STANDARD
END:VTIMEZONE
BEGIN:VEVENT
DTSTART;TZID=America/New_York:20200402T160000
DTEND;TZID=America/New_York:20200402T170000
DTSTAMP:20260422T204505
CREATED:20200327T192826Z
LAST-MODIFIED:20200327T192826Z
UID:10000846-1585843200-1585846800@insider.nationallife.com
SUMMARY:3 Sales Strategies for Helping Clients Have Hope
DESCRIPTION:Register in advance for this webinar: \nPriorities have shifted for many Americans and you are in a unique position to provide your clients with security\, safety and certainty. \nHeroes come in all sizes and shapes – but all heroes offer the same thing\, protection and safety for those who need it most. \nLearn 3 sales strategies that can help you be a hero to clients in this uncertain time.
URL:https://insider.nationallife.com/event/3-sales-strategies-for-helping-clients-have-hope/
END:VEVENT
BEGIN:VEVENT
DTSTART;TZID=America/New_York:20200402T150000
DTEND;TZID=America/New_York:20200402T160000
DTSTAMP:20260422T204505
CREATED:20200311T140301Z
LAST-MODIFIED:20200311T140301Z
UID:10000796-1585839600-1585843200@insider.nationallife.com
SUMMARY:NLG's Redesigned PeakLife IUL
DESCRIPTION:Register in advance for this webinar: \nLooking for an IUL product that offers a strong competitive edge to your high-net worth clients? The PeakLife product has enhancer bonuses that can help to maximize the client’s growth potential. With two added options for enhanced cash value performance\, plus continued advanced market solutions that focus on your client’s unique needs\, this webinar provides training on how PeakLife can deliver more value to your clients. This webinar is for all agents.
URL:https://insider.nationallife.com/event/nlgs-redesigned-peaklife-iul/
END:VEVENT
BEGIN:VEVENT
DTSTART;TZID=America/New_York:20200402T130000
DTEND;TZID=America/New_York:20200402T140000
DTSTAMP:20260422T204505
CREATED:20200327T193456Z
LAST-MODIFIED:20200327T193456Z
UID:10000847-1585832400-1585836000@insider.nationallife.com
SUMMARY:Annuity Strategies During This Difficult Time
DESCRIPTION:Register in advance for this webinar:
URL:https://insider.nationallife.com/event/annuity-strategies-during-this-difficult-time/
END:VEVENT
BEGIN:VEVENT
DTSTART;TZID=America/New_York:20200402T103000
DTEND;TZID=America/New_York:20200402T113000
DTSTAMP:20260422T204505
CREATED:20200311T223811Z
LAST-MODIFIED:20200311T223811Z
UID:10000826-1585823400-1585827000@insider.nationallife.com
SUMMARY:Premium Increase Program (PIP)
DESCRIPTION:Register in advance for this webinar:
URL:https://insider.nationallife.com/event/premium-increase-program-pip-3/
END:VEVENT
BEGIN:VEVENT
DTSTART;TZID=America/New_York:20200401T150000
DTEND;TZID=America/New_York:20200401T160000
DTSTAMP:20260422T204505
CREATED:20200311T135556Z
LAST-MODIFIED:20200311T135556Z
UID:10000795-1585753200-1585756800@insider.nationallife.com
SUMMARY:Indexed Crediting Strategies
DESCRIPTION:Register in advance for this webinar: \n 
URL:https://insider.nationallife.com/event/indexed-crediting-strategies-3/
END:VEVENT
BEGIN:VEVENT
DTSTART;TZID=America/New_York:20200401T130000
DTEND;TZID=America/New_York:20200401T140000
DTSTAMP:20260422T204505
CREATED:20200327T193610Z
LAST-MODIFIED:20200327T193610Z
UID:10000848-1585746000-1585749600@insider.nationallife.com
SUMMARY:3 Sales Strategies for Helping Clients Have Hope
DESCRIPTION:Register in advance for this webinar: \nPriorities have shifted for many Americans and you are in a unique position to provide your clients with security\, safety and certainty. \nHeroes come in all sizes and shapes – but all heroes offer the same thing\, protection and safety for those who need it most. \nLearn 3 sales strategies that can help you be a hero to clients in this uncertain time.
URL:https://insider.nationallife.com/event/3-sales-strategies-for-helping-clients-have-hope-2/
END:VEVENT
BEGIN:VEVENT
DTSTART;TZID=America/New_York:20200401T103000
DTEND;TZID=America/New_York:20200401T113000
DTSTAMP:20260422T204505
CREATED:20200311T223440Z
LAST-MODIFIED:20200311T223440Z
UID:10000825-1585737000-1585740600@insider.nationallife.com
SUMMARY:Premium Increase Program (PIP)
DESCRIPTION:Register in advance for this webinar:
URL:https://insider.nationallife.com/event/premium-increase-program-pip-2/
END:VEVENT
BEGIN:VEVENT
DTSTART;TZID=America/New_York:20200331T160000
DTEND;TZID=America/New_York:20200331T170000
DTSTAMP:20260422T204505
CREATED:20200327T194333Z
LAST-MODIFIED:20200327T194333Z
UID:10000850-1585670400-1585674000@insider.nationallife.com
SUMMARY:3 Sales Strategies for Helping Clients Have Hope
DESCRIPTION:Register in advance for this webinar: \nPriorities have shifted for many Americans and you are in a unique position to provide your clients with security\, safety and certainty. \nHeroes come in all sizes and shapes – but all heroes offer the same thing\, protection and safety for those who need it most. \nLearn 3 sales strategies that can help you be a hero to clients in this uncertain time.
URL:https://insider.nationallife.com/event/3-sales-strategies-for-helping-clients-have-hope-3/
END:VEVENT
BEGIN:VEVENT
DTSTART;TZID=America/New_York:20200331T150000
DTEND;TZID=America/New_York:20200331T160000
DTSTAMP:20260422T204505
CREATED:20200227T163010Z
LAST-MODIFIED:20200227T163010Z
UID:10000785-1585666800-1585670400@insider.nationallife.com
SUMMARY:Introducing NLG's Redesigned FlexLife IUL
DESCRIPTION:Register in advance for this webinar: \nThe FlexLife has features that will make it an industry-leading IUL product. Learn how the FlexLife helps to solve for the client who wants a flexible policy with options for high cash value performance. With greater growth potential\, plus continued guarantees of downside protection\, living benefits and death benefit security\, this webinar will give you the tools you need to help your clients find peace of mind. This webinar is for all agents.
URL:https://insider.nationallife.com/event/introducing-nlgs-redesigned-flexlife-iul-8/
END:VEVENT
BEGIN:VEVENT
DTSTART;TZID=America/New_York:20200331T143000
DTEND;TZID=America/New_York:20200331T153000
DTSTAMP:20260422T204505
CREATED:20200227T150832Z
LAST-MODIFIED:20200227T150832Z
UID:10000772-1585665000-1585668600@insider.nationallife.com
SUMMARY:K-12 Meeting Toolkit Training
DESCRIPTION:Register in advance for this webinar:
URL:https://insider.nationallife.com/event/k-12-meeting-toolkit-training-6/
END:VEVENT
BEGIN:VEVENT
DTSTART;TZID=America/New_York:20200331T130000
DTEND;TZID=America/New_York:20200331T140000
DTSTAMP:20260422T204505
CREATED:20200327T193803Z
LAST-MODIFIED:20200327T193803Z
UID:10000849-1585659600-1585663200@insider.nationallife.com
SUMMARY:Annuity Strategies During This Difficult Time
DESCRIPTION:Register in advance for this webinar:
URL:https://insider.nationallife.com/event/annuity-strategies-during-this-difficult-time-2/
END:VEVENT
BEGIN:VEVENT
DTSTART;TZID=America/New_York:20200331T120000
DTEND;TZID=America/New_York:20200331T130000
DTSTAMP:20260422T204505
CREATED:20200310T143824Z
LAST-MODIFIED:20200310T143824Z
UID:10000794-1585656000-1585659600@insider.nationallife.com
SUMMARY:Premium Increase Program (PIP)
DESCRIPTION:Register in advance for this webinar:
URL:https://insider.nationallife.com/event/premium-increase-program-pip/
END:VEVENT
BEGIN:VEVENT
DTSTART;TZID=America/New_York:20200330T143000
DTEND;TZID=America/New_York:20200330T153000
DTSTAMP:20260422T204505
CREATED:20200227T150745Z
LAST-MODIFIED:20200227T150745Z
UID:10000771-1585578600-1585582200@insider.nationallife.com
SUMMARY:Intro to Balanced Opportunities
DESCRIPTION:Register in advance for this webinar:
URL:https://insider.nationallife.com/event/intro-to-balanced-opportunities-2/
END:VEVENT
BEGIN:VEVENT
DTSTART;TZID=America/New_York:20200330T140000
DTEND;TZID=America/New_York:20200330T150000
DTSTAMP:20260422T204505
CREATED:20200323T181550Z
LAST-MODIFIED:20200323T181550Z
UID:10000843-1585576800-1585580400@insider.nationallife.com
SUMMARY:Business Survival Tips in the Age of Social Distancing
DESCRIPTION:Register in advance for this webinar:
URL:https://insider.nationallife.com/event/business-survival-tips-in-the-age-of-social-distancing-10/
END:VEVENT
BEGIN:VEVENT
DTSTART;TZID=America/New_York:20200330T103000
DTEND;TZID=America/New_York:20200330T113000
DTSTAMP:20260422T204505
CREATED:20200227T162310Z
LAST-MODIFIED:20200227T162310Z
UID:10000784-1585564200-1585567800@insider.nationallife.com
SUMMARY:Advanced Life Illustration Training
DESCRIPTION:Register in advance for this webinar: \nDo you want to learn more about how to illustrate advanced client cases?  This WebEx presentation will teach you how to run more complex illustrations along with helping you to better understand some of the nuances with our illustration software.  This session is ideal for Agents who are already very familiar with our illustration system.
URL:https://insider.nationallife.com/event/advanced-life-illustration-training-8/
END:VEVENT
BEGIN:VEVENT
DTSTART;TZID=America/New_York:20200330T100000
DTEND;TZID=America/New_York:20200330T110000
DTSTAMP:20260422T204505
CREATED:20200323T181421Z
LAST-MODIFIED:20200323T181421Z
UID:10000842-1585562400-1585566000@insider.nationallife.com
SUMMARY:Business Survival Tips in the Age of Social Distancing
DESCRIPTION:Register in advance for this webinar:
URL:https://insider.nationallife.com/event/business-survival-tips-in-the-age-of-social-distancing-9/
END:VEVENT
BEGIN:VEVENT
DTSTART;TZID=America/New_York:20200327T150000
DTEND;TZID=America/New_York:20200327T160000
DTSTAMP:20260422T204505
CREATED:20200323T181251Z
LAST-MODIFIED:20200323T181251Z
UID:10000841-1585321200-1585324800@insider.nationallife.com
SUMMARY:Business Survival Tips in the Age of Social Distancing
DESCRIPTION:Register in advance for this webinar:
URL:https://insider.nationallife.com/event/business-survival-tips-in-the-age-of-social-distancing-8/
END:VEVENT
BEGIN:VEVENT
DTSTART;TZID=America/New_York:20200327T110000
DTEND;TZID=America/New_York:20200327T120000
DTSTAMP:20260422T204505
CREATED:20200323T181043Z
LAST-MODIFIED:20200323T181043Z
UID:10000840-1585306800-1585310400@insider.nationallife.com
SUMMARY:Business Survival Tips in the Age of Social Distancing
DESCRIPTION:Register in advance for this webinar:
URL:https://insider.nationallife.com/event/business-survival-tips-in-the-age-of-social-distancing-7/
END:VEVENT
BEGIN:VEVENT
DTSTART;TZID=America/New_York:20200327T103000
DTEND;TZID=America/New_York:20200327T113000
DTSTAMP:20260422T204505
CREATED:20200227T162106Z
LAST-MODIFIED:20200227T162106Z
UID:10000783-1585305000-1585308600@insider.nationallife.com
SUMMARY:QUICK-HIT Sales Idea for the 403(b) Market
DESCRIPTION:Register in advance for this webinar: \nAre you looking to expand or start doing business in the 403(b) market?  This webinar will offer several suggestions for how to develop a market in the 403(b) space.  This webinar is for any agent who is doing business in the 403(b) market or would like to.
URL:https://insider.nationallife.com/event/quick-hit-sales-idea-for-the-403b-market-13/
END:VEVENT
BEGIN:VEVENT
DTSTART;TZID=America/New_York:20200326T163000
DTEND;TZID=America/New_York:20200326T173000
DTSTAMP:20260422T204505
CREATED:20200227T161904Z
LAST-MODIFIED:20200227T161904Z
UID:10000782-1585240200-1585243800@insider.nationallife.com
SUMMARY:Illustration Designs using IULs (Mandarin)
DESCRIPTION:Register in advance for this webinar:
URL:https://insider.nationallife.com/event/illustration-designs-using-iuls-mandarin-7/
END:VEVENT
BEGIN:VEVENT
DTSTART;TZID=America/New_York:20200326T150000
DTEND;TZID=America/New_York:20200326T160000
DTSTAMP:20260422T204505
CREATED:20200227T161658Z
LAST-MODIFIED:20200227T161658Z
UID:10000781-1585234800-1585238400@insider.nationallife.com
SUMMARY:Indexed Crediting Strategies
DESCRIPTION:Register in advance for this webinar:
URL:https://insider.nationallife.com/event/indexed-crediting-strategies-2/
END:VEVENT
BEGIN:VEVENT
DTSTART;TZID=America/New_York:20200326T140000
DTEND;TZID=America/New_York:20200326T150000
DTSTAMP:20260422T204505
CREATED:20200323T180854Z
LAST-MODIFIED:20200323T180854Z
UID:10000839-1585231200-1585234800@insider.nationallife.com
SUMMARY:Business Survival Tips in the Age of Social Distancing
DESCRIPTION:Register in advance for this webinar:
URL:https://insider.nationallife.com/event/business-survival-tips-in-the-age-of-social-distancing-6/
END:VEVENT
BEGIN:VEVENT
DTSTART;TZID=America/New_York:20200326T110000
DTEND;TZID=America/New_York:20200326T120000
DTSTAMP:20260422T204505
CREATED:20200227T150651Z
LAST-MODIFIED:20200227T150651Z
UID:10000770-1585220400-1585224000@insider.nationallife.com
SUMMARY:K-12 Meeting Toolkit Training
DESCRIPTION:Register in advance for this webinar:
URL:https://insider.nationallife.com/event/k-12-meeting-toolkit-training-5/
END:VEVENT
BEGIN:VEVENT
DTSTART;TZID=America/New_York:20200326T100000
DTEND;TZID=America/New_York:20200326T110000
DTSTAMP:20260422T204505
CREATED:20200323T180725Z
LAST-MODIFIED:20200323T180725Z
UID:10000838-1585216800-1585220400@insider.nationallife.com
SUMMARY:Business Survival Tips in the Age of Social Distancing
DESCRIPTION:Register in advance for this webinar:
URL:https://insider.nationallife.com/event/business-survival-tips-in-the-age-of-social-distancing-5/
END:VEVENT
BEGIN:VEVENT
DTSTART;TZID=America/New_York:20200325T150000
DTEND;TZID=America/New_York:20200325T160000
DTSTAMP:20260422T204505
CREATED:20200323T180606Z
LAST-MODIFIED:20200323T180606Z
UID:10000837-1585148400-1585152000@insider.nationallife.com
SUMMARY:Business Survival Tips in the Age of Social Distancing
DESCRIPTION:Register in advance for this webinar:
URL:https://insider.nationallife.com/event/business-survival-tips-in-the-age-of-social-distancing-4/
END:VEVENT
BEGIN:VEVENT
DTSTART;TZID=America/New_York:20200325T150000
DTEND;TZID=America/New_York:20200325T160000
DTSTAMP:20260422T204505
CREATED:20200227T155540Z
LAST-MODIFIED:20200227T155540Z
UID:10000780-1585148400-1585152000@insider.nationallife.com
SUMMARY:Life Insurance with Living Benefits & Lifetime Income Benefit Rider
DESCRIPTION:Register in advance for this webinar: \nAre your clients worried about their Retirement?  Have they expressed a concern about not having saved enough money?  This WebEx will provide a look at our life insurance policies with the Lifetime Income Benefit Rider.  You will learn about how the clients meet qualifications to exercise the rider for turning their policy’s cash value into a guaranteed stream of income.  This session is for Agents who want to better understand how to take distributions out of a policy. 
URL:https://insider.nationallife.com/event/life-insurance-with-living-benefits-lifetime-income-benefit-rider-2/
END:VEVENT
BEGIN:VEVENT
DTSTART;TZID=America/New_York:20200325T110000
DTEND;TZID=America/New_York:20200325T120000
DTSTAMP:20260422T204505
CREATED:20200323T180444Z
LAST-MODIFIED:20200323T180444Z
UID:10000836-1585134000-1585137600@insider.nationallife.com
SUMMARY:Business Survival Tips in the Age of Social Distancing
DESCRIPTION:Register in advance for this webinar:
URL:https://insider.nationallife.com/event/business-survival-tips-in-the-age-of-social-distancing-3/
END:VEVENT
BEGIN:VEVENT
DTSTART;TZID=America/New_York:20200324T170000
DTEND;TZID=America/New_York:20200324T180000
DTSTAMP:20260422T204505
CREATED:20200324T163744Z
LAST-MODIFIED:20200324T163744Z
UID:10000844-1585069200-1585072800@insider.nationallife.com
SUMMARY:Annuity Strategies During This Historic Time
DESCRIPTION:Register in advance for this webinar:
URL:https://insider.nationallife.com/event/annuity-strategies-during-this-historic-time/
END:VEVENT
BEGIN:VEVENT
DTSTART;TZID=America/New_York:20200324T163000
DTEND;TZID=America/New_York:20200324T173000
DTSTAMP:20260422T204505
CREATED:20200227T155109Z
LAST-MODIFIED:20200227T155109Z
UID:10000779-1585067400-1585071000@insider.nationallife.com
SUMMARY:Illustration Designs using IULs (Spanish)
DESCRIPTION:Register in advance for this webinar:
URL:https://insider.nationallife.com/event/illustration-designs-using-iuls-spanish-6/
END:VEVENT
BEGIN:VEVENT
DTSTART;TZID=America/New_York:20200324T150000
DTEND;TZID=America/New_York:20200324T160000
DTSTAMP:20260422T204505
CREATED:20200227T154554Z
LAST-MODIFIED:20200227T154554Z
UID:10000778-1585062000-1585065600@insider.nationallife.com
SUMMARY:Basic Life Illustration Training
DESCRIPTION:Register in advance for this webinar: \nAre you new to National Life Group?  Are you looking to start using our illustration software to run illustrations for your prospective clients?  This WebEx will help you understand our software platforms\, how to navigate each one\, and how to run each life product illustration.  This session is ideal for Agents who are looking to learn how to use National Life’s illustration software.
URL:https://insider.nationallife.com/event/basic-life-illustration-training-9/
END:VEVENT
END:VCALENDAR