BEGIN:VCALENDAR
VERSION:2.0
PRODID:-//NL Insider - ECPv6.15.17.1//NONSGML v1.0//EN
CALSCALE:GREGORIAN
METHOD:PUBLISH
X-ORIGINAL-URL:https://insider.nationallife.com
X-WR-CALDESC:Events for NL Insider
REFRESH-INTERVAL;VALUE=DURATION:PT1H
X-Robots-Tag:noindex
X-PUBLISHED-TTL:PT1H
BEGIN:VTIMEZONE
TZID:America/New_York
BEGIN:DAYLIGHT
TZOFFSETFROM:-0500
TZOFFSETTO:-0400
TZNAME:EDT
DTSTART:20250309T070000
END:DAYLIGHT
BEGIN:STANDARD
TZOFFSETFROM:-0400
TZOFFSETTO:-0500
TZNAME:EST
DTSTART:20251102T060000
END:STANDARD
BEGIN:DAYLIGHT
TZOFFSETFROM:-0500
TZOFFSETTO:-0400
TZNAME:EDT
DTSTART:20260308T070000
END:DAYLIGHT
BEGIN:STANDARD
TZOFFSETFROM:-0400
TZOFFSETTO:-0500
TZNAME:EST
DTSTART:20261101T060000
END:STANDARD
BEGIN:DAYLIGHT
TZOFFSETFROM:-0500
TZOFFSETTO:-0400
TZNAME:EDT
DTSTART:20270314T070000
END:DAYLIGHT
BEGIN:STANDARD
TZOFFSETFROM:-0400
TZOFFSETTO:-0500
TZNAME:EST
DTSTART:20271107T060000
END:STANDARD
END:VTIMEZONE
BEGIN:VEVENT
DTSTART;TZID=America/New_York:20260518T210000
DTEND;TZID=America/New_York:20260518T220000
DTSTAMP:20260425T093425
CREATED:20260424T173527Z
LAST-MODIFIED:20260424T173527Z
UID:10003868-1779138000-1779141600@insider.nationallife.com
SUMMARY:Uncover the Need: The right Question to Generate Sales - Mandarin
DESCRIPTION:[vc_row type=”in_container” full_screen_row_position=”middle” column_margin=”default” column_direction=”default” column_direction_tablet=”default” column_direction_phone=”default” scene_position=”center” text_color=”dark” text_align=”left” row_border_radius=”none” row_border_radius_applies=”bg” overflow=”visible” overlay_strength=”0.3″ gradient_direction=”left_to_right” shape_divider_position=”bottom” bg_image_animation=”none”][vc_column column_padding=”no-extra-padding” column_padding_tablet=”inherit” column_padding_phone=”inherit” column_padding_position=”all” column_element_direction_desktop=”default” column_element_spacing=”default” desktop_text_alignment=”default” tablet_text_alignment=”default” phone_text_alignment=”default” background_color_opacity=”1″ background_hover_color_opacity=”1″ column_backdrop_filter=”none” column_shadow=”none” column_border_radius=”none” column_link_target=”_self” column_position=”default” gradient_direction=”left_to_right” overlay_strength=”0.3″ width=”1/1″ tablet_width_inherit=”default” animation_type=”default” bg_image_animation=”none” border_type=”simple” column_border_width=”none” column_border_style=”solid”][vc_column_text css=”” text_direction=”default”]In this training\, you’ll learn how to move conversations to the next step in the sales process by asking the right questions at the right time. Discover proven techniques to uncover client needs\, guide meaningful discussions\, and keep conversations flowing naturally\, ultimately assisting in closing the sale. We’ll explore how to position your questions to build trust\, reveal opportunities\, and drive more productive client interactions. Walk away with practical strategies you can immediately apply to generate stronger engagement and better outcomes.[/vc_column_text][nectar_btn size=”jumbo” open_new_tab=”true” button_style=”regular” button_color_2=”Accent-Color” icon_family=”none” text=”Register Here” url=”https://nationallife.zoom.us/webinar/register/WN_C7iyQzbVS5iey7nwOz_jKA#/registration”][/vc_column][/vc_row]
URL:https://insider.nationallife.com/event/uncover-the-need-the-right-question-to-generate-sales-mandarin/
CATEGORIES:PFA
END:VEVENT
BEGIN:VEVENT
DTSTART;TZID=America/New_York:20260519T210000
DTEND;TZID=America/New_York:20260519T220000
DTSTAMP:20260425T093425
CREATED:20260424T173641Z
LAST-MODIFIED:20260424T173641Z
UID:10003869-1779224400-1779228000@insider.nationallife.com
SUMMARY:The Field Underwriting Playbook & Breaking Down the New EZ Underwriting Limits
DESCRIPTION:[vc_row type=”in_container” full_screen_row_position=”middle” column_margin=”default” column_direction=”default” column_direction_tablet=”default” column_direction_phone=”default” scene_position=”center” text_color=”dark” text_align=”left” row_border_radius=”none” row_border_radius_applies=”bg” overflow=”visible” overlay_strength=”0.3″ gradient_direction=”left_to_right” shape_divider_position=”bottom” bg_image_animation=”none”][vc_column column_padding=”no-extra-padding” column_padding_tablet=”inherit” column_padding_phone=”inherit” column_padding_position=”all” column_element_direction_desktop=”default” column_element_spacing=”default” desktop_text_alignment=”default” tablet_text_alignment=”default” phone_text_alignment=”default” background_color_opacity=”1″ background_hover_color_opacity=”1″ column_backdrop_filter=”none” column_shadow=”none” column_border_radius=”none” column_link_target=”_self” column_position=”default” gradient_direction=”left_to_right” overlay_strength=”0.3″ width=”1/1″ tablet_width_inherit=”default” animation_type=”default” bg_image_animation=”none” border_type=”simple” column_border_width=”none” column_border_style=”solid”][vc_column_text css=”” text_direction=”default”]In this informative webinar\, we’ll walk through the Field Underwriting Guidelines and provide a clear breakdown of the new EZ Underwriting limits. Learn how to navigate underwriting with greater confidence by understanding key guidelines\, identifying opportunities upfront\, and avoiding common pitfalls. We’ll simplify the updates to EZ UW limits and explain how they impact your sales process\, helping you position cases more effectively and set proper client expectations. Walk away with practical tools and insights to streamline submissions and improve placement success.[/vc_column_text][nectar_btn size=”jumbo” open_new_tab=”true” button_style=”regular” button_color_2=”Accent-Color” icon_family=”none” text=”Register Here” url=”https://nationallife.zoom.us/webinar/register/WN_T-JI7yisS4StHyhESPYszg#/registration”][/vc_column][/vc_row]
URL:https://insider.nationallife.com/event/the-field-underwriting-playbook-breaking-down-the-new-ez-underwriting-limits/
CATEGORIES:PFA
END:VEVENT
BEGIN:VEVENT
DTSTART;TZID=America/New_York:20260525T210000
DTEND;TZID=America/New_York:20260525T220000
DTSTAMP:20260425T093425
CREATED:20260424T173756Z
LAST-MODIFIED:20260424T173756Z
UID:10003870-1779742800-1779746400@insider.nationallife.com
SUMMARY:The Field Underwriting Playbook & Breaking Down the New EZ Underwriting Limits - Mandarin
DESCRIPTION:[vc_row type=”in_container” full_screen_row_position=”middle” column_margin=”default” column_direction=”default” column_direction_tablet=”default” column_direction_phone=”default” scene_position=”center” text_color=”dark” text_align=”left” row_border_radius=”none” row_border_radius_applies=”bg” overflow=”visible” overlay_strength=”0.3″ gradient_direction=”left_to_right” shape_divider_position=”bottom” bg_image_animation=”none”][vc_column column_padding=”no-extra-padding” column_padding_tablet=”inherit” column_padding_phone=”inherit” column_padding_position=”all” column_element_direction_desktop=”default” column_element_spacing=”default” desktop_text_alignment=”default” tablet_text_alignment=”default” phone_text_alignment=”default” background_color_opacity=”1″ background_hover_color_opacity=”1″ column_backdrop_filter=”none” column_shadow=”none” column_border_radius=”none” column_link_target=”_self” column_position=”default” gradient_direction=”left_to_right” overlay_strength=”0.3″ width=”1/1″ tablet_width_inherit=”default” animation_type=”default” bg_image_animation=”none” border_type=”simple” column_border_width=”none” column_border_style=”solid”][vc_column_text css=”” text_direction=”default”]In this informative webinar\, we’ll walk through the Field Underwriting Guidelines and provide a clear breakdown of the new EZ Underwriting limits. Learn how to navigate underwriting with greater confidence by understanding key guidelines\, identifying opportunities upfront\, and avoiding common pitfalls. We’ll simplify the updates to EZ UW limits and explain how they impact your sales process\, helping you position cases more effectively and set proper client expectations. Walk away with practical tools and insights to streamline submissions and improve placement success.[/vc_column_text][nectar_btn size=”jumbo” open_new_tab=”true” button_style=”regular” button_color_2=”Accent-Color” icon_family=”none” text=”Register Here” url=”https://nationallife.zoom.us/webinar/register/WN_CFbd9yl9RPCx-KoBN5Vfrw#/registration”][/vc_column][/vc_row]
URL:https://insider.nationallife.com/event/the-field-underwriting-playbook-breaking-down-the-new-ez-underwriting-limits-mandarin/
CATEGORIES:PFA
END:VEVENT
BEGIN:VEVENT
DTSTART;TZID=America/New_York:20260526T210000
DTEND;TZID=America/New_York:20260526T220000
DTSTAMP:20260425T093425
CREATED:20260424T173928Z
LAST-MODIFIED:20260424T173928Z
UID:10003871-1779829200-1779832800@insider.nationallife.com
SUMMARY:Uncover the Need: The right Question to Generate Sales
DESCRIPTION:[vc_row type=”in_container” full_screen_row_position=”middle” column_margin=”default” column_direction=”default” column_direction_tablet=”default” column_direction_phone=”default” scene_position=”center” text_color=”dark” text_align=”left” row_border_radius=”none” row_border_radius_applies=”bg” overflow=”visible” overlay_strength=”0.3″ gradient_direction=”left_to_right” shape_divider_position=”bottom” bg_image_animation=”none”][vc_column column_padding=”no-extra-padding” column_padding_tablet=”inherit” column_padding_phone=”inherit” column_padding_position=”all” column_element_direction_desktop=”default” column_element_spacing=”default” desktop_text_alignment=”default” tablet_text_alignment=”default” phone_text_alignment=”default” background_color_opacity=”1″ background_hover_color_opacity=”1″ column_backdrop_filter=”none” column_shadow=”none” column_border_radius=”none” column_link_target=”_self” column_position=”default” gradient_direction=”left_to_right” overlay_strength=”0.3″ width=”1/1″ tablet_width_inherit=”default” animation_type=”default” bg_image_animation=”none” border_type=”simple” column_border_width=”none” column_border_style=”solid”][vc_column_text]In this training\, you’ll learn how to move conversations to the next step in the sales process by asking the right questions at the right time. Discover proven techniques to uncover client needs\, guide meaningful discussions\, and keep conversations flowing naturally\, ultimately assisting in closing the sale. We’ll explore how to position your questions to build trust\, reveal opportunities\, and drive more productive client interactions. Walk away with practical strategies you can immediately apply to generate stronger engagement and better outcomes.[/vc_column_text][nectar_btn size=”jumbo” open_new_tab=”true” button_style=”regular” button_color_2=”Accent-Color” icon_family=”none” text=”Register Here” url=”https://nationallife.zoom.us/webinar/register/WN_tQ9cCcu7SHCWSssQi6Uvdg#/registration”][/vc_column][/vc_row]
URL:https://insider.nationallife.com/event/uncover-the-need-the-right-question-to-generate-sales/
CATEGORIES:PFA
END:VEVENT
END:VCALENDAR