BEGIN:VCALENDAR
VERSION:2.0
PRODID:-//NL Insider - ECPv6.15.17.1//NONSGML v1.0//EN
CALSCALE:GREGORIAN
METHOD:PUBLISH
X-WR-CALNAME:NL Insider
X-ORIGINAL-URL:https://insider.nationallife.com
X-WR-CALDESC:Events for NL Insider
REFRESH-INTERVAL;VALUE=DURATION:PT1H
X-Robots-Tag:noindex
X-PUBLISHED-TTL:PT1H
BEGIN:VTIMEZONE
TZID:America/New_York
BEGIN:DAYLIGHT
TZOFFSETFROM:-0500
TZOFFSETTO:-0400
TZNAME:EDT
DTSTART:20250309T070000
END:DAYLIGHT
BEGIN:STANDARD
TZOFFSETFROM:-0400
TZOFFSETTO:-0500
TZNAME:EST
DTSTART:20251102T060000
END:STANDARD
BEGIN:DAYLIGHT
TZOFFSETFROM:-0500
TZOFFSETTO:-0400
TZNAME:EDT
DTSTART:20260308T070000
END:DAYLIGHT
BEGIN:STANDARD
TZOFFSETFROM:-0400
TZOFFSETTO:-0500
TZNAME:EST
DTSTART:20261101T060000
END:STANDARD
BEGIN:DAYLIGHT
TZOFFSETFROM:-0500
TZOFFSETTO:-0400
TZNAME:EDT
DTSTART:20270314T070000
END:DAYLIGHT
BEGIN:STANDARD
TZOFFSETFROM:-0400
TZOFFSETTO:-0500
TZNAME:EST
DTSTART:20271107T060000
END:STANDARD
END:VTIMEZONE
BEGIN:VEVENT
DTSTART;TZID=America/New_York:20260423T140000
DTEND;TZID=America/New_York:20260423T143000
DTSTAMP:20260423T090115
CREATED:20260324T144940Z
LAST-MODIFIED:20260324T144940Z
UID:10003825-1776952800-1776954600@insider.nationallife.com
SUMMARY:Setting Agents Up for Success | Avoiding Common Pre-Sales Pitfalls
DESCRIPTION:[vc_row type=”in_container” full_screen_row_position=”middle” column_margin=”default” column_direction=”default” column_direction_tablet=”default” column_direction_phone=”default” scene_position=”center” text_color=”dark” text_align=”left” row_border_radius=”none” row_border_radius_applies=”bg” overflow=”visible” overlay_strength=”0.3″ gradient_direction=”left_to_right” shape_divider_position=”bottom” bg_image_animation=”none”][vc_column column_padding=”no-extra-padding” column_padding_tablet=”inherit” column_padding_phone=”inherit” column_padding_position=”all” column_element_direction_desktop=”default” column_element_spacing=”default” desktop_text_alignment=”default” tablet_text_alignment=”default” phone_text_alignment=”default” background_color_opacity=”1″ background_hover_color_opacity=”1″ column_backdrop_filter=”none” column_shadow=”none” column_border_radius=”none” column_link_target=”_self” column_position=”default” gradient_direction=”left_to_right” overlay_strength=”0.3″ width=”1/1″ tablet_width_inherit=”default” animation_type=”default” bg_image_animation=”none” border_type=”simple” column_border_width=”none” column_border_style=”solid”][vc_column_text]Are you new to the National Life Group? We will introduce you to some of our common business practices\, and give you tips for selling our products and submitting your business! We will introduce you to our e-App system\, our underwriting process\, and more! This webinar is for agents who are new to our business and looking for guidance in our sales process.[/vc_column_text][nectar_btn size=”jumbo” open_new_tab=”true” button_style=”regular” button_color_2=”Accent-Color” icon_family=”none” text=”Register Here” url=”https://nationallife.zoom.us/webinar/register/WN_BuEspAACQWCa2ZzvgN4lLQ”][/vc_column][/vc_row]
URL:https://insider.nationallife.com/event/setting-agents-up-for-success-avoiding-common-pre-sales-pitfalls-103/
CATEGORIES:Main
END:VEVENT
BEGIN:VEVENT
DTSTART;TZID=America/New_York:20260423T150000
DTEND;TZID=America/New_York:20260423T160000
DTSTAMP:20260423T090115
CREATED:20260324T145059Z
LAST-MODIFIED:20260324T145059Z
UID:10003826-1776956400-1776960000@insider.nationallife.com
SUMMARY:TotalSecure Whole Life: A Guaranteed Solution with Flexibility
DESCRIPTION:[vc_row type=”in_container” full_screen_row_position=”middle” column_margin=”default” column_direction=”default” column_direction_tablet=”default” column_direction_phone=”default” scene_position=”center” text_color=”dark” text_align=”left” row_border_radius=”none” row_border_radius_applies=”bg” overflow=”visible” overlay_strength=”0.3″ gradient_direction=”left_to_right” shape_divider_position=”bottom” bg_image_animation=”none”][vc_column column_padding=”no-extra-padding” column_padding_tablet=”inherit” column_padding_phone=”inherit” column_padding_position=”all” column_element_direction_desktop=”default” column_element_spacing=”default” desktop_text_alignment=”default” tablet_text_alignment=”default” phone_text_alignment=”default” background_color_opacity=”1″ background_hover_color_opacity=”1″ column_backdrop_filter=”none” column_shadow=”none” column_border_radius=”none” column_link_target=”_self” column_position=”default” gradient_direction=”left_to_right” overlay_strength=”0.3″ width=”1/1″ tablet_width_inherit=”default” animation_type=”default” bg_image_animation=”none” border_type=”simple” column_border_width=”none” column_border_style=”solid”][vc_column_text]Did you know Whole Life can offer flexible premiums while still offering strong guarantees?  This webinar will review our Whole Life product and show you how National Life Group’s TotalSecure is unique in the industry.  You will learn how you can build a flexible premium Whole Life policy for your clients.  This session is for Agents who want to incorporate Whole Life into their practice.[/vc_column_text][nectar_btn size=”jumbo” open_new_tab=”true” button_style=”regular” button_color_2=”Accent-Color” icon_family=”none” text=”Register Here” url=”https://nationallife.zoom.us/webinar/register/WN_6XF4of-DT-Ww8L34oEj6_g”][/vc_column][/vc_row]
URL:https://insider.nationallife.com/event/totalsecure-whole-life-a-guaranteed-solution-with-flexibility-23/
CATEGORIES:Main
END:VEVENT
BEGIN:VEVENT
DTSTART;TZID=America/New_York:20260423T150000
DTEND;TZID=America/New_York:20260423T160000
DTSTAMP:20260423T090115
CREATED:20260324T153415Z
LAST-MODIFIED:20260330T191604Z
UID:10003846-1776956400-1776960000@insider.nationallife.com
SUMMARY:Spanish - FlexLife 2025 & Living Benefits
DESCRIPTION:[vc_row type=”in_container” full_screen_row_position=”middle” column_margin=”default” column_direction=”default” column_direction_tablet=”default” column_direction_phone=”default” scene_position=”center” text_color=”dark” text_align=”left” row_border_radius=”none” row_border_radius_applies=”bg” overflow=”visible” overlay_strength=”0.3″ gradient_direction=”left_to_right” shape_divider_position=”bottom” bg_image_animation=”none”][vc_column column_padding=”no-extra-padding” column_padding_tablet=”inherit” column_padding_phone=”inherit” column_padding_position=”all” column_element_direction_desktop=”default” column_element_spacing=”default” desktop_text_alignment=”default” tablet_text_alignment=”default” phone_text_alignment=”default” background_color_opacity=”1″ background_hover_color_opacity=”1″ column_backdrop_filter=”none” column_shadow=”none” column_border_radius=”none” column_link_target=”_self” column_position=”default” gradient_direction=”left_to_right” overlay_strength=”0.3″ width=”1/1″ tablet_width_inherit=”default” animation_type=”default” bg_image_animation=”none” border_type=”simple” column_border_width=”none” column_border_style=”solid”][vc_column_text css=”” text_direction=”default”]Are you looking for an IUL that can help address all three of your clients’ top concerns – Live Too Long\, Die Too Soon\, and Become Ill? This webinar will cover how FlexLife is the solution for your clients with its ability accumulate cash value\, provide a competitively priced death benefit and Accelerated Benefits Riders. \n3:00pm-4:00pm EDT[/vc_column_text][nectar_btn size=”jumbo” open_new_tab=”true” button_style=”regular” button_color_2=”Accent-Color” icon_family=”none” text=”Register Here” url=”https://nationallife.zoom.us/webinar/register/WN_D0lTWYOmSWq5Cxsie4FEng”][/vc_column][/vc_row]
URL:https://insider.nationallife.com/event/spanish-flexlife-2025-living-benefits-9/
CATEGORIES:Main
END:VEVENT
BEGIN:VEVENT
DTSTART;TZID=America/New_York:20260423T163000
DTEND;TZID=America/New_York:20260423T173000
DTSTAMP:20260423T090115
CREATED:20260324T153605Z
LAST-MODIFIED:20260324T153605Z
UID:10003847-1776961800-1776965400@insider.nationallife.com
SUMMARY:Spanish - SPDA Lineup
DESCRIPTION:[vc_row type=”in_container” full_screen_row_position=”middle” column_margin=”default” column_direction=”default” column_direction_tablet=”default” column_direction_phone=”default” scene_position=”center” text_color=”dark” text_align=”left” row_border_radius=”none” row_border_radius_applies=”bg” overflow=”visible” overlay_strength=”0.3″ gradient_direction=”left_to_right” shape_divider_position=”bottom” bg_image_animation=”none”][vc_column column_padding=”no-extra-padding” column_padding_tablet=”inherit” column_padding_phone=”inherit” column_padding_position=”all” column_element_direction_desktop=”default” column_element_spacing=”default” desktop_text_alignment=”default” tablet_text_alignment=”default” phone_text_alignment=”default” background_color_opacity=”1″ background_hover_color_opacity=”1″ column_backdrop_filter=”none” column_shadow=”none” column_border_radius=”none” column_link_target=”_self” column_position=”default” gradient_direction=”left_to_right” overlay_strength=”0.3″ width=”1/1″ tablet_width_inherit=”default” animation_type=”default” bg_image_animation=”none” border_type=”simple” column_border_width=”none” column_border_style=”solid”][vc_column_text]Do you have clients who are looking to move a lump sum of money into a deferred annuity?  This Webinar will introduce you to National Life Group’s single premium annuities along with helping you identify which products could be a good fit for each prospect.  This session is ideal for Agents who are looking to learn how to use Single Premium Deferred Annuities in their practice.[/vc_column_text][nectar_btn size=”jumbo” open_new_tab=”true” button_style=”regular” button_color_2=”Accent-Color” icon_family=”none” text=”Register Here” url=”https://nationallife.zoom.us/webinar/register/WN_K_xwcaiuSv2TjDPXlWkRxw”][/vc_column][/vc_row]
URL:https://insider.nationallife.com/event/spanish-spda-lineup-3/
CATEGORIES:Main
END:VEVENT
END:VCALENDAR