BEGIN:VCALENDAR
VERSION:2.0
PRODID:-//NL Insider - ECPv6.15.17.1//NONSGML v1.0//EN
CALSCALE:GREGORIAN
METHOD:PUBLISH
X-WR-CALNAME:NL Insider
X-ORIGINAL-URL:https://insider.nationallife.com
X-WR-CALDESC:Events for NL Insider
REFRESH-INTERVAL;VALUE=DURATION:PT1H
X-Robots-Tag:noindex
X-PUBLISHED-TTL:PT1H
BEGIN:VTIMEZONE
TZID:America/New_York
BEGIN:DAYLIGHT
TZOFFSETFROM:-0500
TZOFFSETTO:-0400
TZNAME:EDT
DTSTART:20250309T070000
END:DAYLIGHT
BEGIN:STANDARD
TZOFFSETFROM:-0400
TZOFFSETTO:-0500
TZNAME:EST
DTSTART:20251102T060000
END:STANDARD
BEGIN:DAYLIGHT
TZOFFSETFROM:-0500
TZOFFSETTO:-0400
TZNAME:EDT
DTSTART:20260308T070000
END:DAYLIGHT
BEGIN:STANDARD
TZOFFSETFROM:-0400
TZOFFSETTO:-0500
TZNAME:EST
DTSTART:20261101T060000
END:STANDARD
BEGIN:DAYLIGHT
TZOFFSETFROM:-0500
TZOFFSETTO:-0400
TZNAME:EDT
DTSTART:20270314T070000
END:DAYLIGHT
BEGIN:STANDARD
TZOFFSETFROM:-0400
TZOFFSETTO:-0500
TZNAME:EST
DTSTART:20271107T060000
END:STANDARD
END:VTIMEZONE
BEGIN:VEVENT
DTSTART;TZID=America/New_York:20260422T140000
DTEND;TZID=America/New_York:20260422T143000
DTSTAMP:20260422T032355
CREATED:20260324T144532Z
LAST-MODIFIED:20260330T191238Z
UID:10003822-1776866400-1776868200@insider.nationallife.com
SUMMARY:Illustration Training Basics
DESCRIPTION:[vc_row type=”in_container” full_screen_row_position=”middle” column_margin=”default” column_direction=”default” column_direction_tablet=”default” column_direction_phone=”default” scene_position=”center” text_color=”dark” text_align=”left” row_border_radius=”none” row_border_radius_applies=”bg” overflow=”visible” overlay_strength=”0.3″ gradient_direction=”left_to_right” shape_divider_position=”bottom” bg_image_animation=”none”][vc_column column_padding=”no-extra-padding” column_padding_tablet=”inherit” column_padding_phone=”inherit” column_padding_position=”all” column_element_direction_desktop=”default” column_element_spacing=”default” desktop_text_alignment=”default” tablet_text_alignment=”default” phone_text_alignment=”default” background_color_opacity=”1″ background_hover_color_opacity=”1″ column_backdrop_filter=”none” column_shadow=”none” column_border_radius=”none” column_link_target=”_self” column_position=”default” gradient_direction=”left_to_right” overlay_strength=”0.3″ width=”1/1″ tablet_width_inherit=”default” animation_type=”default” bg_image_animation=”none” border_type=”simple” column_border_width=”none” column_border_style=”solid”][vc_column_text css=”” text_direction=”default”]Are you new to doing business with National Life Group and looking for an introduction to our illustration software?  If so\, please join us for an overview of our illustrations\, as well as best practices to set you up for success in illustrating our products. This webinar is for agents who are new to National Life and want to gain familiarity with our illustration software. \n2:00pm-2:30pm EDT[/vc_column_text][nectar_btn size=”jumbo” open_new_tab=”true” button_style=”regular” button_color_2=”Accent-Color” icon_family=”none” text=”Register Here” url=”https://nationallife.zoom.us/webinar/register/WN_fr0y3tD8TyOmmMgomhPHww”][/vc_column][/vc_row]
URL:https://insider.nationallife.com/event/illustration-training-basics-101/
CATEGORIES:Main
END:VEVENT
BEGIN:VEVENT
DTSTART;TZID=America/New_York:20260422T150000
DTEND;TZID=America/New_York:20260422T160000
DTSTAMP:20260422T032355
CREATED:20260324T144719Z
LAST-MODIFIED:20260327T214701Z
UID:10003823-1776870000-1776873600@insider.nationallife.com
SUMMARY:FPDA Lineup: Flexible Premium Solutions
DESCRIPTION:[vc_row type=”in_container” full_screen_row_position=”middle” column_margin=”default” column_direction=”default” column_direction_tablet=”default” column_direction_phone=”default” scene_position=”center” text_color=”dark” text_align=”left” row_border_radius=”none” row_border_radius_applies=”bg” overflow=”visible” overlay_strength=”0.3″ gradient_direction=”left_to_right” shape_divider_position=”bottom” bg_image_animation=”none”][vc_column column_padding=”no-extra-padding” column_padding_tablet=”inherit” column_padding_phone=”inherit” column_padding_position=”all” column_element_direction_desktop=”default” column_element_spacing=”default” desktop_text_alignment=”default” tablet_text_alignment=”default” phone_text_alignment=”default” background_color_opacity=”1″ background_hover_color_opacity=”1″ column_backdrop_filter=”none” column_shadow=”none” column_border_radius=”none” column_link_target=”_self” column_position=”default” gradient_direction=”left_to_right” overlay_strength=”0.3″ width=”1/1″ tablet_width_inherit=”default” animation_type=”default” bg_image_animation=”none” border_type=”simple” column_border_width=”none” column_border_style=”solid”][vc_column_text css=”” text_direction=”default”]Are your clients just starting out on their retirement planning journey? Do they only have $100 a month or less than $25\,000 to start? Small changes now can make a big impact later on! Help them start on their journey with a Flexible Premium Deferred Annuity with National Life Group! This webinar is ideal for agents who are looking to get into the 403b market at NLG and looking to uncover the power of small changes. \n3:00pm-4:00pm EDT[/vc_column_text][nectar_btn size=”jumbo” open_new_tab=”true” button_style=”regular” button_color_2=”Accent-Color” icon_family=”none” text=”Register Here” url=”https://nationallife.zoom.us/webinar/register/WN_xxFV0RxETZmY2VVtFvdkOQ”][/vc_column][/vc_row]
URL:https://insider.nationallife.com/event/fpda-lineup-flexible-premium-solutions-10/
CATEGORIES:Main
END:VEVENT
BEGIN:VEVENT
DTSTART;TZID=America/New_York:20260422T150000
DTEND;TZID=America/New_York:20260422T160000
DTSTAMP:20260422T032355
CREATED:20260324T153311Z
LAST-MODIFIED:20260327T215123Z
UID:10003845-1776870000-1776873600@insider.nationallife.com
SUMMARY:Spanish - Illustrations
DESCRIPTION:[vc_row type=”in_container” full_screen_row_position=”middle” column_margin=”default” column_direction=”default” column_direction_tablet=”default” column_direction_phone=”default” scene_position=”center” text_color=”dark” text_align=”left” row_border_radius=”none” row_border_radius_applies=”bg” overflow=”visible” overlay_strength=”0.3″ gradient_direction=”left_to_right” shape_divider_position=”bottom” bg_image_animation=”none”][vc_column column_padding=”no-extra-padding” column_padding_tablet=”inherit” column_padding_phone=”inherit” column_padding_position=”all” column_element_direction_desktop=”default” column_element_spacing=”default” desktop_text_alignment=”default” tablet_text_alignment=”default” phone_text_alignment=”default” background_color_opacity=”1″ background_hover_color_opacity=”1″ column_backdrop_filter=”none” column_shadow=”none” column_border_radius=”none” column_link_target=”_self” column_position=”default” gradient_direction=”left_to_right” overlay_strength=”0.3″ width=”1/1″ tablet_width_inherit=”default” animation_type=”default” bg_image_animation=”none” border_type=”simple” column_border_width=”none” column_border_style=”solid”][vc_column_text css=”” text_direction=”default”]Are you new to doing business with National Life Group and looking for an introduction to our illustration software?  If so\, please join us for an overview of our illustrations\, as well as best practices to set you up for success in illustrating our products. This webinar is for agents who are new to National Life and want to gain familiarity with our illustration software. \n3:00pm-4:00pm EDT[/vc_column_text][nectar_btn size=”jumbo” open_new_tab=”true” button_style=”regular” button_color_2=”Accent-Color” icon_family=”none” text=”Register Here” url=”https://nationallife.zoom.us/webinar/register/WN_5nkfTlKNRfqLTNqvkI-K_g”][/vc_column][/vc_row]
URL:https://insider.nationallife.com/event/spanish-illustrations-8/
CATEGORIES:Main
END:VEVENT
BEGIN:VEVENT
DTSTART;TZID=America/New_York:20260422T163000
DTEND;TZID=America/New_York:20260422T173000
DTSTAMP:20260422T032355
CREATED:20260324T144820Z
LAST-MODIFIED:20260324T144820Z
UID:10003824-1776875400-1776879000@insider.nationallife.com
SUMMARY:Mandarin - FPDA Lineup
DESCRIPTION:[vc_row type=”in_container” full_screen_row_position=”middle” column_margin=”default” column_direction=”default” column_direction_tablet=”default” column_direction_phone=”default” scene_position=”center” text_color=”dark” text_align=”left” row_border_radius=”none” row_border_radius_applies=”bg” overflow=”visible” overlay_strength=”0.3″ gradient_direction=”left_to_right” shape_divider_position=”bottom” bg_image_animation=”none”][vc_column column_padding=”no-extra-padding” column_padding_tablet=”inherit” column_padding_phone=”inherit” column_padding_position=”all” column_element_direction_desktop=”default” column_element_spacing=”default” desktop_text_alignment=”default” tablet_text_alignment=”default” phone_text_alignment=”default” background_color_opacity=”1″ background_hover_color_opacity=”1″ column_backdrop_filter=”none” column_shadow=”none” column_border_radius=”none” column_link_target=”_self” column_position=”default” gradient_direction=”left_to_right” overlay_strength=”0.3″ width=”1/1″ tablet_width_inherit=”default” animation_type=”default” bg_image_animation=”none” border_type=”simple” column_border_width=”none” column_border_style=”solid”][vc_column_text]Are your clients just starting out on their retirement planning journey? Do they only have $100 a month or less than $25\,000 to start? Small changes now can make a big impact later on! Help them start on their journey with a Flexible Premium Deferred Annuity with National Life Group! This webinar is ideal for agents who are looking to get into the 403b market at NLG and looking to uncover the power of small changes.[/vc_column_text][nectar_btn size=”jumbo” open_new_tab=”true” button_style=”regular” button_color_2=”Accent-Color” icon_family=”none” text=”Register Here” url=”https://nationallife.zoom.us/webinar/register/WN_6LQ34WNDQTebxHtgeHNt7w”][/vc_column][/vc_row]
URL:https://insider.nationallife.com/event/mandarin-fpda-lineup/
CATEGORIES:Main
END:VEVENT
END:VCALENDAR