BEGIN:VCALENDAR
VERSION:2.0
PRODID:-//NL Insider - ECPv6.15.17.1//NONSGML v1.0//EN
CALSCALE:GREGORIAN
METHOD:PUBLISH
X-WR-CALNAME:NL Insider
X-ORIGINAL-URL:https://insider.nationallife.com
X-WR-CALDESC:Events for NL Insider
REFRESH-INTERVAL;VALUE=DURATION:PT1H
X-Robots-Tag:noindex
X-PUBLISHED-TTL:PT1H
BEGIN:VTIMEZONE
TZID:America/New_York
BEGIN:DAYLIGHT
TZOFFSETFROM:-0500
TZOFFSETTO:-0400
TZNAME:EDT
DTSTART:20250309T070000
END:DAYLIGHT
BEGIN:STANDARD
TZOFFSETFROM:-0400
TZOFFSETTO:-0500
TZNAME:EST
DTSTART:20251102T060000
END:STANDARD
BEGIN:DAYLIGHT
TZOFFSETFROM:-0500
TZOFFSETTO:-0400
TZNAME:EDT
DTSTART:20260308T070000
END:DAYLIGHT
BEGIN:STANDARD
TZOFFSETFROM:-0400
TZOFFSETTO:-0500
TZNAME:EST
DTSTART:20261101T060000
END:STANDARD
BEGIN:DAYLIGHT
TZOFFSETFROM:-0500
TZOFFSETTO:-0400
TZNAME:EDT
DTSTART:20270314T070000
END:DAYLIGHT
BEGIN:STANDARD
TZOFFSETFROM:-0400
TZOFFSETTO:-0500
TZNAME:EST
DTSTART:20271107T060000
END:STANDARD
END:VTIMEZONE
BEGIN:VEVENT
DTSTART;TZID=America/New_York:20260420T120000
DTEND;TZID=America/New_York:20260420T130000
DTSTAMP:20260420T024158
CREATED:20260319T145209Z
LAST-MODIFIED:20260319T145704Z
UID:10003797-1776686400-1776690000@insider.nationallife.com
SUMMARY:National Life Group Living Benefits – Where We Win - Mandarin
DESCRIPTION:Explore the strength of National Life Group’s Living Benefits and where they truly stand out in today’s market. This webinar highlights key differentiators\, competitive advantages\, and real-world applications that demonstrate how these solutions deliver meaningful value to clients.
URL:https://insider.nationallife.com/event/national-life-group-living-benefits-where-we-win-mandarin/
CATEGORIES:PFA
END:VEVENT
END:VCALENDAR